BEGIN:VCALENDAR
VERSION:2.0
PRODID:-//I Can Move - ECPv5.3.2.1//NONSGML v1.0//EN
CALSCALE:GREGORIAN
METHOD:PUBLISH
X-WR-CALNAME:I Can Move
X-ORIGINAL-URL:https://icanmove.com.au
X-WR-CALDESC:Events for I Can Move
BEGIN:VTIMEZONE
TZID:Australia/Melbourne
BEGIN:STANDARD
TZOFFSETFROM:+1100
TZOFFSETTO:+1000
TZNAME:AEST
DTSTART:20190406T160000
END:STANDARD
BEGIN:DAYLIGHT
TZOFFSETFROM:+1000
TZOFFSETTO:+1100
TZNAME:AEDT
DTSTART:20191005T160000
END:DAYLIGHT
END:VTIMEZONE
BEGIN:VEVENT
DTSTART;TZID=Australia/Melbourne:20191109T113000
DTEND;TZID=Australia/Melbourne:20191109T143000
DTSTAMP:20210301T063533
CREATED:20190706T002301Z
LAST-MODIFIED:20191004T083920Z
UID:3001-1573299000-1573309800@icanmove.com.au
SUMMARY:Pelvic Power
DESCRIPTION:We’re coming to The Goldy!\nwith \nPelvic Power\nin \nPilates\ntaught by \nBea Glendenning\npresented by \nSway Bar Pilates\nMaster the art of cueing the pelvis and hips for strength and flexibility\nTeaching pelvic stability has become a cornerstone skill behind teaching Pilates\, and an expected outcome amongst our clients.  \nThis workshop will take your teaching to the next level through advancing your understanding of the pelvis and hips and how to cue them for aligned efficiency.  We’ll be using the Franklin Method approach to experiencing the bone rhythm of the pelvic joints\, and applying this deepened knowledge to the cueing of Pilates repertoire.  \nHere’s a short video demonstrating some of the material we’ll be covering: \nYouTube Link  \nHow do I book in?\nAll bookings are taken right here :).  Just click on the ‘Book Now’ icon and follow the prompts.  Places are strictly limited.  So jump in to avoid disappointment. \nWhat if I want to Book into both Pelvic Power and Swinging Shoulders?\nThen DON’T click on this ‘Book Now’ icon\, you get a combo discount!  Instead\, pop onto the Sway Bar Combo Deal and click on that ‘Book Now‘ Icon.    \nCan I book in if I’m NOT a Pilates Instructor?\nYES.  There is no baseline knowledge required for the workshops\, just a love of expanding your mind-body understanding.  When we cover the practical applications\, just enjoy these moments for your own movement experience.    \nGot a Question?\nAsk Bea \nAsk Sway Bar Pilates \n 
URL:https://icanmove.com.au/event/pelvic-power-for-pilates/
LOCATION:Sway Bar Pilates\, 1 Mudgeeraba Rd\, Worongary\, QLD\, 4213\, Australia
ATTACH;FMTTYPE=image/png:https://icanmove.com.au/wp-content/uploads/2017/08/Facebook-Cover-4.png
END:VEVENT
BEGIN:VEVENT
DTSTART;TZID=Australia/Melbourne:20191109T113000
DTEND;TZID=Australia/Melbourne:20191109T163000
DTSTAMP:20210301T063533
CREATED:20191004T081939Z
LAST-MODIFIED:20191004T083422Z
UID:3063-1573299000-1573317000@icanmove.com.au
SUMMARY:Sway Bar Combo Deal
DESCRIPTION:Book in HERE\nif you are coming to both\nPelvic Power\nand\nSwinging Shoulders\nat\nSway Bar Pilates\nAnd tuck some extra $ in your back pocket 😉\n 
URL:https://icanmove.com.au/event/sway-bar-combo/
LOCATION:Sway Bar Pilates\, 1 Mudgeeraba Rd\, Worongary\, QLD\, 4213\, Australia
ATTACH;FMTTYPE=image/png:https://icanmove.com.au/wp-content/uploads/2019/10/Untitled-design-73.png
END:VEVENT
BEGIN:VEVENT
DTSTART;TZID=Australia/Melbourne:20191109T150000
DTEND;TZID=Australia/Melbourne:20191109T163000
DTSTAMP:20210301T063533
CREATED:20191004T035209Z
LAST-MODIFIED:20191004T083740Z
UID:3055-1573311600-1573317000@icanmove.com.au
SUMMARY:Swinging Shoulders
DESCRIPTION:We’re ALSO coming to the Goldy \nwith  \nSwinging Shoulders\nfor \nPilates Professionals \ntaught by  \nBea Glendenning\npresented by \nSway Bar Pilates\nMaster the art of cueing the shoulders for strength\, power & flexibility.\nHelping our clients relieve shoulder tension and develop a healthy relationship with their shoulders is high on the pilates instructor to-do list!  This workshop is designed to equip you with the understanding and know-how to achieve just that.  We’ll take a deep look at the movement anatomy of key shoulder joints and experience the rhythm of movement when they are all sliding and gliding together in harmony.  We’ll then apply this deepened knowledge to the cueing of shoulder movement within pilates repertoire.   \n\nFor all those who choose to attend both workshops\, we’ll finish up with integrating the movement of the shoulders\, with the pelvis\, and simple ways to achieve this using cueing\, imagery and self-touch.     \nHow do I book in?\nAll bookings are taken right here :).  Just click on the ‘Book Now’ icon and follow the prompts.  Places are strictly limited.  So jump in to avoid disappointment. \nWhat if I want to Book into both Pelvic Power and Swinging Shoulders?\nThen DON’T  click on this ‘Book Now’ icon\, you get a combo discount!  Instead\, pop onto the Sway Bar Combo Deal and click on that ‘Book Now‘ Icon.     \nCan I book in if I’m NOT a Pilates Instructor?\nYES.  There is no baseline knowledge required for the workshops\, just a love of expanding your mind-body understanding.  When we cover the practical applications\, just enjoy these moments for your own movement experience.   \nGot a question?\nAsk Bea \nAsk Sway Bar
URL:https://icanmove.com.au/event/swinging-shoulders/
LOCATION:Sway Bar Pilates\, 1 Mudgeeraba Rd\, Worongary\, QLD\, 4213\, Australia
ATTACH;FMTTYPE=image/png:https://icanmove.com.au/wp-content/uploads/2019/10/Untitled-design-72.png
END:VEVENT
END:VCALENDAR