BEGIN:VCALENDAR
VERSION:2.0
PRODID:-//I Can Move - ECPv5.3.2.1//NONSGML v1.0//EN
CALSCALE:GREGORIAN
METHOD:PUBLISH
X-WR-CALNAME:I Can Move
X-ORIGINAL-URL:https://icanmove.com.au
X-WR-CALDESC:Events for I Can Move
BEGIN:VTIMEZONE
TZID:Australia/Melbourne
BEGIN:STANDARD
TZOFFSETFROM:+1100
TZOFFSETTO:+1000
TZNAME:AEST
DTSTART:20190406T160000
END:STANDARD
BEGIN:DAYLIGHT
TZOFFSETFROM:+1000
TZOFFSETTO:+1100
TZNAME:AEDT
DTSTART:20191005T160000
END:DAYLIGHT
END:VTIMEZONE
BEGIN:VEVENT
DTSTART;TZID=Australia/Melbourne:20190908T100000
DTEND;TZID=Australia/Melbourne:20190908T130000
DTSTAMP:20210301T063838
CREATED:20190808T034606Z
LAST-MODIFIED:20190808T040336Z
UID:3026-1567936800-1567947600@icanmove.com.au
SUMMARY:Posture Perfect
DESCRIPTION:Posture Perfect\nA professional development workshop for Pilates Instructors \ntaught by  \nBea Glendenning\nat \nUnion Pilates \nHow to improve posture is a hot topic in today’s modern society\, and often it’s Pilates Instructors who are called on to fix the problem!   \nIn this workshop\, you will experience an integrated approach on how to rebalance posture using mind\, body and movement.  We’ll delve into how we can adapt our thoughts and speech to improve our posture.  As well as experiencing the movement anatomy of the shoulders and spine. We’ll then apply this knowledge and understanding to the cueing of posture and shoulders within Pilates repertoire.  Course content will draw largely from the Franklin Method approach to training body and mind in unison.  \nGot a question?\nAsk Bea \nAsk Union Pilates \n*All Bookings Taken through Union Pilates* \nPlanning on coming to Functional Feet aswell? Book into both for $299 🙂
URL:https://icanmove.com.au/event/posture-perfect-2/
LOCATION:Union Pilates\, 1/259-261 Coventry St\, South Melbourne\, VIC\, 3205\, Australia
ATTACH;FMTTYPE=image/png:https://icanmove.com.au/wp-content/uploads/2019/01/Facebook-Cover-5.png
END:VEVENT
END:VCALENDAR