BEGIN:VCALENDAR
VERSION:2.0
PRODID:-//I Can Move - ECPv5.3.2.1//NONSGML v1.0//EN
CALSCALE:GREGORIAN
METHOD:PUBLISH
X-WR-CALNAME:I Can Move
X-ORIGINAL-URL:https://icanmove.com.au
X-WR-CALDESC:Events for I Can Move
BEGIN:VTIMEZONE
TZID:Australia/Melbourne
BEGIN:STANDARD
TZOFFSETFROM:+1100
TZOFFSETTO:+1000
TZNAME:AEST
DTSTART:20190406T160000
END:STANDARD
BEGIN:DAYLIGHT
TZOFFSETFROM:+1000
TZOFFSETTO:+1100
TZNAME:AEDT
DTSTART:20191005T160000
END:DAYLIGHT
END:VTIMEZONE
BEGIN:VEVENT
DTSTART;TZID=Australia/Melbourne:20190508T183000
DTEND;TZID=Australia/Melbourne:20190508T193000
DTSTAMP:20210301T065002
CREATED:20190411T051757Z
LAST-MODIFIED:20190411T052200Z
UID:2941-1557340200-1557343800@icanmove.com.au
SUMMARY:Moving Meditation: Full Series
DESCRIPTION:Moving Meditation\nat\nPilates Plus Highett\ntaught by\nBea Glendenning\nFull Series\nMoving Meditation is for anyone keen to lift their Pilates practice to the next level.  Instead of speeding up\, or adding physical challenge\, we’ll be slowing things down and adding mental clarity.  You’ll experience the precise rhythm of movement between your muscles bones and fascia and how to channel your attention to achieve beautiful efficiency and flowing movement.  Be prepared to feel amazed by how a simple shift in attention can improve flexibility\, strength and power in an instant!  This series is best enjoyed in its entirety\, but we understand that the perfect world doesn’t always exist so come to one class or come to them all\, we leave the choice up to you. \n2/ 8th May: Pelvic Power – A Hip Story \nGain clarity and understanding of your hip joints and how they interrelate with your pelvis.  \n3/ 15th May: Pelvic Power – Core Control  \nDiscover all the joints of the Pelvis and how they work together to create pelvic stability.  \n4/ 22nd May: Pelvic Power – The Sacroiliac Joints \nExperience the wonder of your sacroiliac joints\, how they aid hip movement and impact core stability.  \n5/ 29th May: Foot Fundamentals – The Basics \nDiscover the joint’s of your feet and the extraordinary process they travel through every time you take a step\, and how these beauties set up efficient movement through the whole body    \n6/ 5th June: Foot Fundamentals – The Ankle Joints  \nStrengthen your ankles for a powerful push off and soft fluid landing.  Prepare to be amazed at the amount of precise movement that happens here!  \n7/ 12th June: Foot Fundamentals – Knee’s and Feet  \nExperience how the feet and knee’s work together to give the whole lower limb power and absorption in equal measure.  \n8/ 19th June: Knee Knowledge – The Basics      \nKnee’s get a bad wrap these days\, when was the last time you said something good about them?  This class will change all that\, expect to walk out in appreciative awe of your knee’s. \n9/ 26th June: Knee Knowledge  – Patellar Tracking  \nDiscover the journey the patella (knee cap) goes on with every step you take and how to use your attention to influence its adventure.
URL:https://icanmove.com.au/event/moving-meditation-full-series/
LOCATION:Pilates Plus Fitness Studio\, 360 Highett Rd\, VIC 3190\, Highett\, VIC\, 3190\, Australia
ATTACH;FMTTYPE=image/png:https://icanmove.com.au/wp-content/uploads/2019/04/Untitled-design-62.png
ORGANIZER;CN="Bea%20Glendenning":MAILTO:bea@icanmove.com.au
END:VEVENT
END:VCALENDAR