BEGIN:VCALENDAR
VERSION:2.0
PRODID:-//I Can Move - ECPv5.3.2.1//NONSGML v1.0//EN
CALSCALE:GREGORIAN
METHOD:PUBLISH
X-WR-CALNAME:I Can Move
X-ORIGINAL-URL:https://icanmove.com.au
X-WR-CALDESC:Events for I Can Move
BEGIN:VTIMEZONE
TZID:UTC
BEGIN:STANDARD
TZOFFSETFROM:+0000
TZOFFSETTO:+0000
TZNAME:UTC
DTSTART:20160101T000000
END:STANDARD
END:VTIMEZONE
BEGIN:VEVENT
DTSTART;TZID=UTC:20161117T143000
DTEND;TZID=UTC:20161117T160000
DTSTAMP:20210301T062735
CREATED:20150210T224215Z
LAST-MODIFIED:20161113T044720Z
UID:2047-1479393000-1479398400@icanmove.com.au
SUMMARY:The International Dance Educators Workshop
DESCRIPTION:Exploring Visualisation and Imagery in Dance with the Franklin Method\nBorn from the dance and performing arts world\, the internationally renowned Franklin Method is a system of learning how the human body is designed to function\, and how to embody that function using dynamic imagery.  This workshop will give all participants a personal experience of how thoughts\, words and images impact movement\, and how to use this knowledge to improve dance performance in an instant.   Our attention will then be directed towards the pelvis and hips\, where the bone rhythm of pelvic movement will be practiced using anatomically correct imagery.  Dance educators will leave with a refreshed understanding of how to guide there students to achieve longevity in their dance careers with increased hip joint strength\, endurance and flexibility. \nThe International Dance Educators Workshop (IDEW) is an invaluable opportunity for teachers and practitioners to network\, exchange ideas and learn new approaches in a practical\, informal and engaging environment. The workshop is designed to cater to all Dance Teachers and Dance Educators as part of their professional development to teach dance or use dance to teach other subjects. \nWe have another strong line-up of presenters this year: \n17 November 2016 (Thurs) \nPHILLIP ADAMS\n“Shaker Maker – Dance Educators Workshop” \nKATRINA RANK\n“Using Laban’s Effort Qualities as a Choreographic and Movement Stimulus” \nBEA GLENDENNING\n“Exploring Visualisation and Imagery in Dance with the Franklin Method” \n18 November 2016 (Fri) \nDMITRIY EVDOKIMOV\n“Practical Anatomy for Dancers” * \nLUKE ALLEVA\n“Using Industry Techniques to Enhance Performance and Creative Choreography” \nDAVID JONES\n“Dance and the Groove” \n* Session includes pre-reading material which will be sent to all participants 2 weeks before the workshop. Mat or towel with grip required for practical work.
URL:https://icanmove.com.au/event/the-international-dance-educators-workshop/
LOCATION:Ministry of Dance\, Studio 7\, Level 1\, 64 Sutton Street\, North Melbourne\, Victoria\, Australia
ATTACH;FMTTYPE=image/jpeg:https://icanmove.com.au/wp-content/uploads/2015/02/i-can-move-3.jpg
END:VEVENT
END:VCALENDAR