BEGIN:VCALENDAR
VERSION:2.0
PRODID:-//I Can Move - ECPv5.3.2.1//NONSGML v1.0//EN
CALSCALE:GREGORIAN
METHOD:PUBLISH
X-WR-CALNAME:I Can Move
X-ORIGINAL-URL:https://icanmove.com.au
X-WR-CALDESC:Events for I Can Move
BEGIN:VTIMEZONE
TZID:UTC
BEGIN:STANDARD
TZOFFSETFROM:+0000
TZOFFSETTO:+0000
TZNAME:UTC
DTSTART:20170101T000000
END:STANDARD
END:VTIMEZONE
BEGIN:VEVENT
DTSTART;TZID=UTC:20170324T093000
DTEND;TZID=UTC:20170324T103000
DTSTAMP:20210301T062434
CREATED:20170205T130803Z
LAST-MODIFIED:20170213T203537Z
UID:2297-1490347800-1490351400@icanmove.com.au
SUMMARY:Pelvic Function in Walking
DESCRIPTION:This is the fourth class in an ongoing series dedicated to experiencing how the human body is designed to function. \nIn this class you will learn how the pelvis stabilises itself in the simple daily act of walking. You will leave with an understanding of how to image healthy pelvic function in every step you take. This class will draw on knowledge gained from the previous three classes in the series. To facilitate a clear personal understanding it is highly recommended that you have attended the classes teaching imagery\, pelvic floor coordination and the sacroiliac joints prior. \nTo book in email: \nbea@icanmove.com.au \n 
URL:https://icanmove.com.au/event/pelvic-function-in-walking/
LOCATION:Contagious Enthusiasm\, 362 Hampton Street \, Hampton\, VIC\, 3188\, Australia
ATTACH;FMTTYPE=image/png:https://icanmove.com.au/wp-content/uploads/2017/02/walking-4.png
END:VEVENT
END:VCALENDAR