BEGIN:VCALENDAR
VERSION:2.0
PRODID:-//I Can Move - ECPv5.3.2.1//NONSGML v1.0//EN
CALSCALE:GREGORIAN
METHOD:PUBLISH
X-WR-CALNAME:I Can Move
X-ORIGINAL-URL:https://icanmove.com.au
X-WR-CALDESC:Events for I Can Move
BEGIN:VTIMEZONE
TZID:UTC
BEGIN:STANDARD
TZOFFSETFROM:+0000
TZOFFSETTO:+0000
TZNAME:UTC
DTSTART:20170101T000000
END:STANDARD
END:VTIMEZONE
BEGIN:VEVENT
DTSTART;TZID=UTC:20170310T093000
DTEND;TZID=UTC:20170310T103000
DTSTAMP:20210301T062330
CREATED:20170205T124106Z
LAST-MODIFIED:20170213T031609Z
UID:2290-1489138200-1489141800@icanmove.com.au
SUMMARY:Pelvic Floor Coordination
DESCRIPTION:This is the second class in a series dedicated to experiencing how the human body is designed to function using scientifically evidenced techniques from both the psychology and fitness industries. \nIn this class you will learn the basic design of your pelvis\, including the placement of all the joints both within the pelvis\, and those connecting it to the rest of the body. You will then be guided through a series of exercises experiencing how to feel safe and efficient movement within the pelvis and hip joints.  You will leave with an understanding of how to coordinate your pelvic floor in simple everyday movement. \nTo book in email: \nbea@icanmove.com.au \n 
URL:https://icanmove.com.au/event/pelvic-floor-coordination/
LOCATION:Contagious Enthusiasm\, 362 Hampton Street \, Hampton\, VIC\, 3188\, Australia
ATTACH;FMTTYPE=image/png:https://icanmove.com.au/wp-content/uploads/2017/02/splits.png
END:VEVENT
END:VCALENDAR