BEGIN:VCALENDAR
VERSION:2.0
PRODID:-//I Can Move - ECPv5.3.2.1//NONSGML v1.0//EN
CALSCALE:GREGORIAN
METHOD:PUBLISH
X-WR-CALNAME:I Can Move
X-ORIGINAL-URL:https://icanmove.com.au
X-WR-CALDESC:Events for I Can Move
BEGIN:VTIMEZONE
TZID:UTC
BEGIN:STANDARD
TZOFFSETFROM:+0000
TZOFFSETTO:+0000
TZNAME:UTC
DTSTART:20180101T000000
END:STANDARD
END:VTIMEZONE
BEGIN:VEVENT
DTSTART;TZID=UTC:20180222T104500
DTEND;TZID=UTC:20180222T121500
DTSTAMP:20210301T062015
CREATED:20171128T161441Z
LAST-MODIFIED:20171203T112424Z
UID:2580-1519296300-1519301700@icanmove.com.au
SUMMARY:Functional Feet
DESCRIPTION:  \nThe Franklin Method approach to training \nFunctional Feet \nat the \n2018 Ausdance Professional Development Day \nOur feet carry us through life and are the only part of our body in regular contact with the ground beneath us.  How our feet move and adapt to the ground\, be it the stage or the footpath\, influences the way the rest of our body responds.  Using the dynamic and unique approach of the Franklin Method\, Bea will use easily relatable imagery to guide you through how to feel healthy foot function.  With a refreshed understanding you will then experience a foot workout with Franklin bands.   Enjoy walking out with strong\, flexible feet\, ready to transfer your new foot knowledge into dance\, teaching and daily life.    \nNB: BYO Thera or Franklin band.  If you require a band\, click on the ‘Shop’ icon and purchase ahead of time.  Your band will be bought into the workshop on the day.
URL:https://icanmove.com.au/event/functional-feet/
LOCATION:Chunky Move Studios\, 111 Sturt Street\, Southbank\, Australia
ATTACH;FMTTYPE=image/png:https://icanmove.com.au/wp-content/uploads/2017/12/foot-workshop.png
END:VEVENT
END:VCALENDAR